BEGIN:VCALENDAR
VERSION:2.0
PRODID:-//Joliet Pride Network - ECPv6.15.20//NONSGML v1.0//EN
CALSCALE:GREGORIAN
METHOD:PUBLISH
X-WR-CALNAME:Joliet Pride Network
X-ORIGINAL-URL:https://jolietpridenetwork.org
X-WR-CALDESC:Events for Joliet Pride Network
REFRESH-INTERVAL;VALUE=DURATION:PT1H
X-Robots-Tag:noindex
X-PUBLISHED-TTL:PT1H
BEGIN:VTIMEZONE
TZID:America/Chicago
BEGIN:DAYLIGHT
TZOFFSETFROM:-0600
TZOFFSETTO:-0500
TZNAME:CDT
DTSTART:20240310T080000
END:DAYLIGHT
BEGIN:STANDARD
TZOFFSETFROM:-0500
TZOFFSETTO:-0600
TZNAME:CST
DTSTART:20241103T070000
END:STANDARD
BEGIN:DAYLIGHT
TZOFFSETFROM:-0600
TZOFFSETTO:-0500
TZNAME:CDT
DTSTART:20250309T080000
END:DAYLIGHT
BEGIN:STANDARD
TZOFFSETFROM:-0500
TZOFFSETTO:-0600
TZNAME:CST
DTSTART:20251102T070000
END:STANDARD
BEGIN:DAYLIGHT
TZOFFSETFROM:-0600
TZOFFSETTO:-0500
TZNAME:CDT
DTSTART:20260308T080000
END:DAYLIGHT
BEGIN:STANDARD
TZOFFSETFROM:-0500
TZOFFSETTO:-0600
TZNAME:CST
DTSTART:20261101T070000
END:STANDARD
BEGIN:DAYLIGHT
TZOFFSETFROM:-0600
TZOFFSETTO:-0500
TZNAME:CDT
DTSTART:20270314T080000
END:DAYLIGHT
BEGIN:STANDARD
TZOFFSETFROM:-0500
TZOFFSETTO:-0600
TZNAME:CST
DTSTART:20271107T070000
END:STANDARD
END:VTIMEZONE
BEGIN:VEVENT
DTSTART;TZID=America/Chicago:20260411T130000
DTEND;TZID=America/Chicago:20260411T160000
DTSTAMP:20260425T092736
CREATED:20260402T052231Z
LAST-MODIFIED:20260402T052231Z
UID:1182-1775912400-1775923200@jolietpridenetwork.org
SUMMARY:Joliet Pride Network Board Retreat
DESCRIPTION:Agenda\n\nFinishing by-laws\nFundraising\nUpcoming events
URL:https://jolietpridenetwork.org/event/joliet-pride-network-board-retreat/
CATEGORIES:JPN Board Meeting
ATTACH;FMTTYPE=image/jpeg:https://jolietpridenetwork.org/wp-content/uploads/2026/01/cropped-logo_jpn.jpg
END:VEVENT
BEGIN:VEVENT
DTSTART;TZID=America/Chicago:20260408T190000
DTEND;TZID=America/Chicago:20260408T210000
DTSTAMP:20260425T092736
CREATED:20251231T213431Z
LAST-MODIFIED:20260110T034944Z
UID:809-1775674800-1775682000@jolietpridenetwork.org
SUMMARY:April JPN Board Meeting
DESCRIPTION:Monthly board meeting.
URL:https://jolietpridenetwork.org/event/april-jpn-board-meeting/
LOCATION:Realty Executives Success\, 700 W Jefferson St\, Shorewood\, IL\, 60404\, United States
CATEGORIES:JPN Board Meeting
ATTACH;FMTTYPE=image/png:https://jolietpridenetwork.org/wp-content/uploads/2025/11/JPN_Logo_noborder140x50.png
END:VEVENT
BEGIN:VEVENT
DTSTART;TZID=America/Chicago:20260311T190000
DTEND;TZID=America/Chicago:20260311T210000
DTSTAMP:20260425T092736
CREATED:20251231T213126Z
LAST-MODIFIED:20251231T213126Z
UID:807-1773255600-1773262800@jolietpridenetwork.org
SUMMARY:March JPN Board Meeting
DESCRIPTION:Monthly board meeting.
URL:https://jolietpridenetwork.org/event/march-jpn-board-meeting/
LOCATION:Realty Executives Success\, 700 W Jefferson St\, Shorewood\, IL\, 60404\, United States
CATEGORIES:JPN Board Meeting
ATTACH;FMTTYPE=image/png:https://jolietpridenetwork.org/wp-content/uploads/2025/11/JPN_Logo_noborder140x50.png
END:VEVENT
BEGIN:VEVENT
DTSTART;TZID=America/Chicago:20260211T190000
DTEND;TZID=America/Chicago:20260211T210000
DTSTAMP:20260425T092736
CREATED:20251231T212819Z
LAST-MODIFIED:20251231T213220Z
UID:805-1770836400-1770843600@jolietpridenetwork.org
SUMMARY:February JPN Board Meeting
DESCRIPTION:Monthly board meeting.
URL:https://jolietpridenetwork.org/event/february-jpn-board-meeting/
LOCATION:Realty Executives Success\, 700 W Jefferson St\, Shorewood\, IL\, 60404\, United States
CATEGORIES:JPN Board Meeting
ATTACH;FMTTYPE=image/png:https://jolietpridenetwork.org/wp-content/uploads/2025/11/JPN_Logo_noborder140x50.png
END:VEVENT
BEGIN:VEVENT
DTSTART;VALUE=DATE:20260117
DTEND;VALUE=DATE:20260118
DTSTAMP:20260425T092736
CREATED:20251225T173208Z
LAST-MODIFIED:20251228T042519Z
UID:593-1768608000-1768694399@jolietpridenetwork.org
SUMMARY:JPN Board Retreat
DESCRIPTION:Setting our objectives for 2026.
URL:https://jolietpridenetwork.org/event/january-jpn-board-meeting/
LOCATION:The Chateau
CATEGORIES:JPN Board Meeting
END:VEVENT
BEGIN:VEVENT
DTSTART;TZID=America/Chicago:20260114T190000
DTEND;TZID=America/Chicago:20260114T210000
DTSTAMP:20260425T092736
CREATED:20260106T005631Z
LAST-MODIFIED:20260106T005631Z
UID:869-1768417200-1768424400@jolietpridenetwork.org
SUMMARY:JPN Board Meeting
DESCRIPTION:Monthly board meeting.
URL:https://jolietpridenetwork.org/event/jpn-board-meeting/
LOCATION:Realty Executives Success\, 700 W Jefferson St\, Shorewood\, IL\, 60404\, United States
CATEGORIES:JPN Board Meeting
ATTACH;FMTTYPE=image/jpeg:https://jolietpridenetwork.org/wp-content/uploads/2026/01/cropped-logo_jpn.jpg
END:VEVENT
BEGIN:VEVENT
DTSTART;TZID=America/Chicago:20251112T190000
DTEND;TZID=America/Chicago:20251112T210000
DTSTAMP:20260425T092736
CREATED:20251111T030543Z
LAST-MODIFIED:20251111T031305Z
UID:114-1762974000-1762981200@jolietpridenetwork.org
SUMMARY:JPN November Board Meeting
DESCRIPTION:Agenda\n\nBoard Elections
URL:https://jolietpridenetwork.org/event/jpn-november-board-meeting/
LOCATION:Realty Executives Success\, 700 W Jefferson St\, Shorewood\, IL\, 60404\, United States
CATEGORIES:JPN Board Meeting
ATTACH;FMTTYPE=image/png:https://jolietpridenetwork.org/wp-content/uploads/2025/11/JPN_Logo_noborder140x50.png
END:VEVENT
END:VCALENDAR