BEGIN:VCALENDAR
VERSION:2.0
PRODID:-//Joliet Pride Network - ECPv6.15.20//NONSGML v1.0//EN
CALSCALE:GREGORIAN
METHOD:PUBLISH
X-ORIGINAL-URL:https://jolietpridenetwork.org
X-WR-CALDESC:Events for Joliet Pride Network
REFRESH-INTERVAL;VALUE=DURATION:PT1H
X-Robots-Tag:noindex
X-PUBLISHED-TTL:PT1H
BEGIN:VTIMEZONE
TZID:America/Chicago
BEGIN:DAYLIGHT
TZOFFSETFROM:-0600
TZOFFSETTO:-0500
TZNAME:CDT
DTSTART:20250309T080000
END:DAYLIGHT
BEGIN:STANDARD
TZOFFSETFROM:-0500
TZOFFSETTO:-0600
TZNAME:CST
DTSTART:20251102T070000
END:STANDARD
BEGIN:DAYLIGHT
TZOFFSETFROM:-0600
TZOFFSETTO:-0500
TZNAME:CDT
DTSTART:20260308T080000
END:DAYLIGHT
BEGIN:STANDARD
TZOFFSETFROM:-0500
TZOFFSETTO:-0600
TZNAME:CST
DTSTART:20261101T070000
END:STANDARD
BEGIN:DAYLIGHT
TZOFFSETFROM:-0600
TZOFFSETTO:-0500
TZNAME:CDT
DTSTART:20270314T080000
END:DAYLIGHT
BEGIN:STANDARD
TZOFFSETFROM:-0500
TZOFFSETTO:-0600
TZNAME:CST
DTSTART:20271107T070000
END:STANDARD
END:VTIMEZONE
BEGIN:VEVENT
DTSTART;TZID=America/Chicago:20260513T190000
DTEND;TZID=America/Chicago:20260513T210000
DTSTAMP:20260425T080223
CREATED:20251231T213631Z
LAST-MODIFIED:20251231T213631Z
UID:812-1778698800-1778706000@jolietpridenetwork.org
SUMMARY:May JPN Board Meeting
DESCRIPTION:Monthly board meeting.
URL:https://jolietpridenetwork.org/event/may-jpn-board-meeting/
LOCATION:Realty Executives Success\, 700 W Jefferson St\, Shorewood\, IL\, 60404\, United States
CATEGORIES:JPN Board Meeting
ATTACH;FMTTYPE=image/png:https://jolietpridenetwork.org/wp-content/uploads/2025/11/JPN_Logo_noborder140x50.png
END:VEVENT
BEGIN:VEVENT
DTSTART;TZID=America/Chicago:20260610T190000
DTEND;TZID=America/Chicago:20260610T210000
DTSTAMP:20260425T080223
CREATED:20251231T214115Z
LAST-MODIFIED:20251231T214115Z
UID:814-1781118000-1781125200@jolietpridenetwork.org
SUMMARY:June JPN Board Meeting
DESCRIPTION:Monthly board meeting.
URL:https://jolietpridenetwork.org/event/june-jpn-board-meeting/
LOCATION:Realty Executives Success\, 700 W Jefferson St\, Shorewood\, IL\, 60404\, United States
CATEGORIES:JPN Board Meeting
ATTACH;FMTTYPE=image/png:https://jolietpridenetwork.org/wp-content/uploads/2025/11/JPN_Logo_noborder140x50.png
END:VEVENT
BEGIN:VEVENT
DTSTART;TZID=America/Chicago:20260708T190000
DTEND;TZID=America/Chicago:20260708T210000
DTSTAMP:20260425T080223
CREATED:20251231T220224Z
LAST-MODIFIED:20251231T220224Z
UID:818-1783537200-1783544400@jolietpridenetwork.org
SUMMARY:July JPN Board Meeting
DESCRIPTION:Monthly board meeting.
URL:https://jolietpridenetwork.org/event/july-jpn-board-meeting-2/
LOCATION:Realty Executives Success\, 700 W Jefferson St\, Shorewood\, IL\, 60404\, United States
CATEGORIES:JPN Board Meeting
ATTACH;FMTTYPE=image/png:https://jolietpridenetwork.org/wp-content/uploads/2025/11/JPN_Logo_noborder140x50.png
END:VEVENT
BEGIN:VEVENT
DTSTART;TZID=America/Chicago:20260812T190000
DTEND;TZID=America/Chicago:20260812T210000
DTSTAMP:20260425T080223
CREATED:20251231T220736Z
LAST-MODIFIED:20251231T220736Z
UID:820-1786561200-1786568400@jolietpridenetwork.org
SUMMARY:August JPN Board Meeting
DESCRIPTION:Monthly board meeting.
URL:https://jolietpridenetwork.org/event/august-jpn-board-meeting/
LOCATION:Realty Executives Success\, 700 W Jefferson St\, Shorewood\, IL\, 60404\, United States
CATEGORIES:JPN Board Meeting
ATTACH;FMTTYPE=image/png:https://jolietpridenetwork.org/wp-content/uploads/2025/11/JPN_Logo_noborder140x50.png
END:VEVENT
BEGIN:VEVENT
DTSTART;TZID=America/Chicago:20260909T190000
DTEND;TZID=America/Chicago:20260909T210000
DTSTAMP:20260425T080223
CREATED:20251231T221057Z
LAST-MODIFIED:20251231T221322Z
UID:822-1788980400-1788987600@jolietpridenetwork.org
SUMMARY:September JPN Board Meeting
DESCRIPTION:Monthly board meeting.
URL:https://jolietpridenetwork.org/event/september-board-meeting/
LOCATION:Realty Executives Success\, 700 W Jefferson St\, Shorewood\, IL\, 60404\, United States
CATEGORIES:JPN Board Meeting
ATTACH;FMTTYPE=image/png:https://jolietpridenetwork.org/wp-content/uploads/2025/11/JPN_Logo_noborder140x50.png
END:VEVENT
BEGIN:VEVENT
DTSTART;TZID=America/Chicago:20261014T190000
DTEND;TZID=America/Chicago:20261014T210000
DTSTAMP:20260425T080223
CREATED:20251231T221255Z
LAST-MODIFIED:20251231T221255Z
UID:824-1792004400-1792011600@jolietpridenetwork.org
SUMMARY:October JPN Board Meeting
DESCRIPTION:Monthly board meeting.
URL:https://jolietpridenetwork.org/event/october-jpn-board-meeting/
LOCATION:Realty Executives Success\, 700 W Jefferson St\, Shorewood\, IL\, 60404\, United States
CATEGORIES:JPN Board Meeting
ATTACH;FMTTYPE=image/png:https://jolietpridenetwork.org/wp-content/uploads/2025/11/JPN_Logo_noborder140x50.png
END:VEVENT
BEGIN:VEVENT
DTSTART;TZID=America/Chicago:20261111T190000
DTEND;TZID=America/Chicago:20261111T210000
DTSTAMP:20260425T080223
CREATED:20251231T221450Z
LAST-MODIFIED:20251231T221450Z
UID:827-1794423600-1794430800@jolietpridenetwork.org
SUMMARY:November JPN Board Meeting
DESCRIPTION:Monthly board meeting.
URL:https://jolietpridenetwork.org/event/november-jpn-board-meeting/
LOCATION:Realty Executives Success\, 700 W Jefferson St\, Shorewood\, IL\, 60404\, United States
CATEGORIES:JPN Board Meeting
ATTACH;FMTTYPE=image/png:https://jolietpridenetwork.org/wp-content/uploads/2025/11/JPN_Logo_noborder140x50.png
END:VEVENT
BEGIN:VEVENT
DTSTART;TZID=America/Chicago:20261209T190000
DTEND;TZID=America/Chicago:20261209T210000
DTSTAMP:20260425T080223
CREATED:20251231T221615Z
LAST-MODIFIED:20260107T162931Z
UID:829-1796842800-1796850000@jolietpridenetwork.org
SUMMARY:December JPN Board Meeting
DESCRIPTION:Monthly board meeting.
URL:https://jolietpridenetwork.org/event/december-jpn-board-meeting/
LOCATION:Realty Executives Success\, 700 W Jefferson St\, Shorewood\, IL\, 60404\, United States
CATEGORIES:JPN Board Meeting
ATTACH;FMTTYPE=image/png:https://jolietpridenetwork.org/wp-content/uploads/2025/11/JPN_Logo_noborder140x50.png
END:VEVENT
END:VCALENDAR