BEGIN:VCALENDAR
VERSION:2.0
PRODID:-//Joliet Pride Network - ECPv6.15.20//NONSGML v1.0//EN
CALSCALE:GREGORIAN
METHOD:PUBLISH
X-WR-CALNAME:Joliet Pride Network
X-ORIGINAL-URL:https://jolietpridenetwork.org
X-WR-CALDESC:Events for Joliet Pride Network
REFRESH-INTERVAL;VALUE=DURATION:PT1H
X-Robots-Tag:noindex
X-PUBLISHED-TTL:PT1H
BEGIN:VTIMEZONE
TZID:America/Chicago
BEGIN:DAYLIGHT
TZOFFSETFROM:-0600
TZOFFSETTO:-0500
TZNAME:CDT
DTSTART:20250309T080000
END:DAYLIGHT
BEGIN:STANDARD
TZOFFSETFROM:-0500
TZOFFSETTO:-0600
TZNAME:CST
DTSTART:20251102T070000
END:STANDARD
BEGIN:DAYLIGHT
TZOFFSETFROM:-0600
TZOFFSETTO:-0500
TZNAME:CDT
DTSTART:20260308T080000
END:DAYLIGHT
BEGIN:STANDARD
TZOFFSETFROM:-0500
TZOFFSETTO:-0600
TZNAME:CST
DTSTART:20261101T070000
END:STANDARD
BEGIN:DAYLIGHT
TZOFFSETFROM:-0600
TZOFFSETTO:-0500
TZNAME:CDT
DTSTART:20270314T080000
END:DAYLIGHT
BEGIN:STANDARD
TZOFFSETFROM:-0500
TZOFFSETTO:-0600
TZNAME:CST
DTSTART:20271107T070000
END:STANDARD
END:VTIMEZONE
BEGIN:VEVENT
DTSTART;TZID=America/Chicago:20260324T183000
DTEND;TZID=America/Chicago:20260324T210000
DTSTAMP:20260425T111834
CREATED:20260318T211713Z
LAST-MODIFIED:20260318T211713Z
UID:1129-1774377000-1774386000@jolietpridenetwork.org
SUMMARY:JPN Monthly Movie Night-Project Hail Mary
DESCRIPTION:The fourth Tuesday of the month is JPN’s Movie Night!\n\nJoin us on Tuesday\, March 24th at 6:30 PM for a fun evening out as we watch the newly released film Project Hail Mary at Regal Cinema Bolingbrook.\nRelax\, unwind\, and enjoy great company with the Joliet Pride Network! \nTickets: $5 (discounted by JPN!)\nConcessions provided by JPN \nAbout the movie: \nProject Hail Mary is a thrilling sci-fi adventure about a lone astronaut who wakes up in deep space with no memory of his mission\, only to discover he may be humanity’s last hope for survival. As he pieces together his past\, he must rely on science\, ingenuity\, and an unexpected ally to save Earth from a looming catastrophe. \n 
URL:https://jolietpridenetwork.org/event/jpn-monthly-movie-night-project-hail-mary/
LOCATION:Regal Theater Bolingbrook\, 1221 W Boughton Rd\, Bolingbrook\, IL\, 60440\, United States
CATEGORIES:Movie Night,Social Outing
END:VEVENT
END:VCALENDAR