BEGIN:VCALENDAR
VERSION:2.0
PRODID:-//Joliet Pride Network - ECPv6.15.20//NONSGML v1.0//EN
CALSCALE:GREGORIAN
METHOD:PUBLISH
X-WR-CALNAME:Joliet Pride Network
X-ORIGINAL-URL:https://jolietpridenetwork.org
X-WR-CALDESC:Events for Joliet Pride Network
REFRESH-INTERVAL;VALUE=DURATION:PT1H
X-Robots-Tag:noindex
X-PUBLISHED-TTL:PT1H
BEGIN:VTIMEZONE
TZID:America/Chicago
BEGIN:DAYLIGHT
TZOFFSETFROM:-0600
TZOFFSETTO:-0500
TZNAME:CDT
DTSTART:20240310T080000
END:DAYLIGHT
BEGIN:STANDARD
TZOFFSETFROM:-0500
TZOFFSETTO:-0600
TZNAME:CST
DTSTART:20241103T070000
END:STANDARD
BEGIN:DAYLIGHT
TZOFFSETFROM:-0600
TZOFFSETTO:-0500
TZNAME:CDT
DTSTART:20250309T080000
END:DAYLIGHT
BEGIN:STANDARD
TZOFFSETFROM:-0500
TZOFFSETTO:-0600
TZNAME:CST
DTSTART:20251102T070000
END:STANDARD
BEGIN:DAYLIGHT
TZOFFSETFROM:-0600
TZOFFSETTO:-0500
TZNAME:CDT
DTSTART:20260308T080000
END:DAYLIGHT
BEGIN:STANDARD
TZOFFSETFROM:-0500
TZOFFSETTO:-0600
TZNAME:CST
DTSTART:20261101T070000
END:STANDARD
BEGIN:DAYLIGHT
TZOFFSETFROM:-0600
TZOFFSETTO:-0500
TZNAME:CDT
DTSTART:20270314T080000
END:DAYLIGHT
BEGIN:STANDARD
TZOFFSETFROM:-0500
TZOFFSETTO:-0600
TZNAME:CST
DTSTART:20271107T070000
END:STANDARD
END:VTIMEZONE
BEGIN:VEVENT
DTSTART;TZID=America/Chicago:20260324T183000
DTEND;TZID=America/Chicago:20260324T210000
DTSTAMP:20260425T125409
CREATED:20260318T211713Z
LAST-MODIFIED:20260318T211713Z
UID:1129-1774377000-1774386000@jolietpridenetwork.org
SUMMARY:JPN Monthly Movie Night-Project Hail Mary
DESCRIPTION:The fourth Tuesday of the month is JPN’s Movie Night!\n\nJoin us on Tuesday\, March 24th at 6:30 PM for a fun evening out as we watch the newly released film Project Hail Mary at Regal Cinema Bolingbrook.\nRelax\, unwind\, and enjoy great company with the Joliet Pride Network! \nTickets: $5 (discounted by JPN!)\nConcessions provided by JPN \nAbout the movie: \nProject Hail Mary is a thrilling sci-fi adventure about a lone astronaut who wakes up in deep space with no memory of his mission\, only to discover he may be humanity’s last hope for survival. As he pieces together his past\, he must rely on science\, ingenuity\, and an unexpected ally to save Earth from a looming catastrophe. \n 
URL:https://jolietpridenetwork.org/event/jpn-monthly-movie-night-project-hail-mary/
LOCATION:Regal Theater Bolingbrook\, 1221 W Boughton Rd\, Bolingbrook\, IL\, 60440\, United States
CATEGORIES:Movie Night,Social Outing
END:VEVENT
BEGIN:VEVENT
DTSTART;TZID=America/Chicago:20260213T183000
DTEND;TZID=America/Chicago:20260213T210000
DTSTAMP:20260425T125409
CREATED:20260203T135111Z
LAST-MODIFIED:20260203T135413Z
UID:959-1771007400-1771016400@jolietpridenetwork.org
SUMMARY:JPN Monthly Movie Night-Wuthering Heights
DESCRIPTION:🎬 JPN Monthly Movie NightJoin us for a special Valentine-themed screening of Wuthering Heights (2026)! \nExperience the dark romance of Emily Brontë’s classic tale\, full of passion\, obsession\, and haunting moors… Reimagined for a new generation. 🌹🌑 \n❤️ Wear red and/or black to celebrate Valentine’s vibes📸 We’ll have a mini photo setup for anyone who wants a souvenir🎟️ Private theater opens at 6:00pm •  Screening starts at 6:30pm\n🍿 Concessions provided by JPN \nCome for the film\, stay for the atmosphere\, and celebrate Valentine’s with community. \nRated R \nWuthering Heights (2026) A romantic\, atmospheric adaptation of Emily Brontë’s beloved novel\, tells the story of Catherine and Heathcliff and their deep\, complicated connection. Set against sweeping moorland landscapes\, the film explores love\, longing\, and the choices that shape our lives\, creating a beautifully haunting Valentine-season watch.
URL:https://jolietpridenetwork.org/event/jpn-monthly-movie-night-wuthering-heights/
LOCATION:Regal Theater Bolingbrook\, 1221 W Boughton Rd\, Bolingbrook\, IL\, 60440\, United States
CATEGORIES:Movie Night
ATTACH;FMTTYPE=image/jpeg:https://jolietpridenetwork.org/wp-content/uploads/2026/02/MAY-25.jpeg
END:VEVENT
BEGIN:VEVENT
DTSTART;TZID=America/Chicago:20260120T183000
DTEND;TZID=America/Chicago:20260120T210000
DTSTAMP:20260425T125409
CREATED:20260104T113753Z
LAST-MODIFIED:20260119T143920Z
UID:857-1768933800-1768942800@jolietpridenetwork.org
SUMMARY:JPN Movie Night - Marty Supreme
DESCRIPTION:Marty Supreme is a film about a young 1950s ping pong player\, Marty Mauser\, who aggressively pursues greatness in the sport. The plot follows his journey through the world of competitive table tennis\, including a “transactional” affair with a film star and other schemes to prove he’s the best. Timothée Chalamet stars in the title role\, with Gwyneth Paltrow\, Odessa A’zion\, Kevin O’Leary\, Tyler Okonma\, Abel Ferrara\, and Fran Drescher in supporting roles. The film is loosely based on American table tennis player Marty Reisman.
URL:https://jolietpridenetwork.org/event/jpn-movie-night-marty-supreme/
LOCATION:Regal Theater Bolingbrook\, 1221 W Boughton Rd\, Bolingbrook\, IL\, 60440\, United States
CATEGORIES:Movie Night
ATTACH;FMTTYPE=image/jpeg:https://jolietpridenetwork.org/wp-content/uploads/2026/01/c9e3f0e4-81ec-4ea6-a6f7-550855ad385b.jpg
END:VEVENT
BEGIN:VEVENT
DTSTART;TZID=America/Chicago:20251121T183000
DTEND;TZID=America/Chicago:20251121T223000
DTSTAMP:20260425T125409
CREATED:20251111T020227Z
LAST-MODIFIED:20251111T020227Z
UID:102-1763749800-1763764200@jolietpridenetwork.org
SUMMARY:Wicked 2 Movie Night
DESCRIPTION:
URL:https://jolietpridenetwork.org/event/wicked-2-movie-night/
LOCATION:Regal Theater Bolingbrook\, 1221 W Boughton Rd\, Bolingbrook\, IL\, 60440\, United States
CATEGORIES:Movie Night
ATTACH;FMTTYPE=image/jpeg:https://jolietpridenetwork.org/wp-content/uploads/2025/11/Wicked-for-Good-1014x570-1.jpg
END:VEVENT
END:VCALENDAR