BEGIN:VCALENDAR
VERSION:2.0
PRODID:-//Joliet Pride Network - ECPv6.15.20//NONSGML v1.0//EN
CALSCALE:GREGORIAN
METHOD:PUBLISH
X-ORIGINAL-URL:https://jolietpridenetwork.org
X-WR-CALDESC:Events for Joliet Pride Network
REFRESH-INTERVAL;VALUE=DURATION:PT1H
X-Robots-Tag:noindex
X-PUBLISHED-TTL:PT1H
BEGIN:VTIMEZONE
TZID:America/Chicago
BEGIN:DAYLIGHT
TZOFFSETFROM:-0600
TZOFFSETTO:-0500
TZNAME:CDT
DTSTART:20250309T080000
END:DAYLIGHT
BEGIN:STANDARD
TZOFFSETFROM:-0500
TZOFFSETTO:-0600
TZNAME:CST
DTSTART:20251102T070000
END:STANDARD
BEGIN:DAYLIGHT
TZOFFSETFROM:-0600
TZOFFSETTO:-0500
TZNAME:CDT
DTSTART:20260308T080000
END:DAYLIGHT
BEGIN:STANDARD
TZOFFSETFROM:-0500
TZOFFSETTO:-0600
TZNAME:CST
DTSTART:20261101T070000
END:STANDARD
BEGIN:DAYLIGHT
TZOFFSETFROM:-0600
TZOFFSETTO:-0500
TZNAME:CDT
DTSTART:20270314T080000
END:DAYLIGHT
BEGIN:STANDARD
TZOFFSETFROM:-0500
TZOFFSETTO:-0600
TZNAME:CST
DTSTART:20271107T070000
END:STANDARD
END:VTIMEZONE
BEGIN:VEVENT
DTSTART;TZID=America/Chicago:20260305T190000
DTEND;TZID=America/Chicago:20260305T210000
DTSTAMP:20260425T101438
CREATED:20260224T030143Z
LAST-MODIFIED:20260224T030143Z
UID:1024-1772737200-1772744400@jolietpridenetwork.org
SUMMARY:Game of Tones
DESCRIPTION:Thursday\, March 5th is Game of Tones Music Bingo! Prizes will be provided by Joliet Pride Network. This event is free to participate\, with cafe purchases. 7pm – 9pm. Make sure your phone is charged and join us for a fun event of music bingo\, with a twist.
URL:https://jolietpridenetwork.org/event/game-of-tones/
LOCATION:Critical Grind\, 852 Sharp Dr. Unit L\, Shorewood\, IL\, 60404\, United States
CATEGORIES:Gayme Night,Social Outing
ATTACH;FMTTYPE=image/avif:https://jolietpridenetwork.org/wp-content/uploads/2026/02/c56d13_381ab0c620b54337a5128ecfd2195468mv2.avif
END:VEVENT
END:VCALENDAR