BEGIN:VCALENDAR
VERSION:2.0
PRODID:-//Joliet Pride Network - ECPv6.15.20//NONSGML v1.0//EN
CALSCALE:GREGORIAN
METHOD:PUBLISH
X-WR-CALNAME:Joliet Pride Network
X-ORIGINAL-URL:https://jolietpridenetwork.org
X-WR-CALDESC:Events for Joliet Pride Network
REFRESH-INTERVAL;VALUE=DURATION:PT1H
X-Robots-Tag:noindex
X-PUBLISHED-TTL:PT1H
BEGIN:VTIMEZONE
TZID:America/Chicago
BEGIN:DAYLIGHT
TZOFFSETFROM:-0600
TZOFFSETTO:-0500
TZNAME:CDT
DTSTART:20250309T080000
END:DAYLIGHT
BEGIN:STANDARD
TZOFFSETFROM:-0500
TZOFFSETTO:-0600
TZNAME:CST
DTSTART:20251102T070000
END:STANDARD
BEGIN:DAYLIGHT
TZOFFSETFROM:-0600
TZOFFSETTO:-0500
TZNAME:CDT
DTSTART:20260308T080000
END:DAYLIGHT
BEGIN:STANDARD
TZOFFSETFROM:-0500
TZOFFSETTO:-0600
TZNAME:CST
DTSTART:20261101T070000
END:STANDARD
BEGIN:DAYLIGHT
TZOFFSETFROM:-0600
TZOFFSETTO:-0500
TZNAME:CDT
DTSTART:20270314T080000
END:DAYLIGHT
BEGIN:STANDARD
TZOFFSETFROM:-0500
TZOFFSETTO:-0600
TZNAME:CST
DTSTART:20271107T070000
END:STANDARD
END:VTIMEZONE
BEGIN:VEVENT
DTSTART;VALUE=DATE:20260503
DTEND;VALUE=DATE:20260504
DTSTAMP:20260425T124615
CREATED:20251231T200311Z
LAST-MODIFIED:20251231T200311Z
UID:742-1777766400-1777852799@jolietpridenetwork.org
SUMMARY:International Family Equality Day
DESCRIPTION:International Family Equality Day (IFED) celebrates the diversity of LGBTQ+ families around the world\, and takes place every year on the first Sunday in May. All over the world\, more and more children are growing up in families where one or both of their parents identify as LGBTQ+. \n#InternationalFamilyEqualityDay  \n#FamilyEquality
URL:https://jolietpridenetwork.org/event/international-family-equality-day/
CATEGORIES:Observances
END:VEVENT
END:VCALENDAR