BEGIN:VCALENDAR
VERSION:2.0
PRODID:-//Joliet Pride Network - ECPv6.15.20//NONSGML v1.0//EN
CALSCALE:GREGORIAN
METHOD:PUBLISH
X-WR-CALNAME:Joliet Pride Network
X-ORIGINAL-URL:https://jolietpridenetwork.org
X-WR-CALDESC:Events for Joliet Pride Network
REFRESH-INTERVAL;VALUE=DURATION:PT1H
X-Robots-Tag:noindex
X-PUBLISHED-TTL:PT1H
BEGIN:VTIMEZONE
TZID:America/Chicago
BEGIN:DAYLIGHT
TZOFFSETFROM:-0600
TZOFFSETTO:-0500
TZNAME:CDT
DTSTART:20250309T080000
END:DAYLIGHT
BEGIN:STANDARD
TZOFFSETFROM:-0500
TZOFFSETTO:-0600
TZNAME:CST
DTSTART:20251102T070000
END:STANDARD
BEGIN:DAYLIGHT
TZOFFSETFROM:-0600
TZOFFSETTO:-0500
TZNAME:CDT
DTSTART:20260308T080000
END:DAYLIGHT
BEGIN:STANDARD
TZOFFSETFROM:-0500
TZOFFSETTO:-0600
TZNAME:CST
DTSTART:20261101T070000
END:STANDARD
BEGIN:DAYLIGHT
TZOFFSETFROM:-0600
TZOFFSETTO:-0500
TZNAME:CDT
DTSTART:20270314T080000
END:DAYLIGHT
BEGIN:STANDARD
TZOFFSETFROM:-0500
TZOFFSETTO:-0600
TZNAME:CST
DTSTART:20271107T070000
END:STANDARD
END:VTIMEZONE
BEGIN:VEVENT
DTSTART;TZID=America/Chicago:20260131T173000
DTEND;TZID=America/Chicago:20260131T233000
DTSTAMP:20260425T102123
CREATED:20251231T161408Z
LAST-MODIFIED:20251231T163848Z
UID:693-1769880600-1769902200@jolietpridenetwork.org
SUMMARY:Equality Illinois 2026 Gala
DESCRIPTION:Please join us at the Equality Illinois 2026 Gala! After the challenges of this year and the fight still ahead\, we invite you to celebrate the strength\, uniqueness\, and resilience of our LGBTQ+ community. At this year’s Gala\, we will share the story of how our community continues to fight for progress and carve out victories\, even in the face of those who seek to drag us backward. \nAs always\, the evening will feature dinner\, open bars\, a silent auction\, and a powerful message about our fight and the path forward. We will also recognize and uplift Illinois’ own heroes in equality\, with some truly inspiring honorees to be announced soon. \nTickets\, Sponsorship and Host Committee opportunities are now open!
URL:https://jolietpridenetwork.org/event/equality-illinois-2026-gala/
LOCATION:Hilton Chicago\, 720 S Michigan Ave\, IL\, 60605\, United States
CATEGORIES:Partner Event
ATTACH;FMTTYPE=image/png:https://jolietpridenetwork.org/wp-content/uploads/2025/12/gala-website-graphic-5.png
END:VEVENT
END:VCALENDAR