BEGIN:VCALENDAR
VERSION:2.0
PRODID:-//Joliet Pride Network - ECPv6.15.20//NONSGML v1.0//EN
CALSCALE:GREGORIAN
METHOD:PUBLISH
X-WR-CALNAME:Joliet Pride Network
X-ORIGINAL-URL:https://jolietpridenetwork.org
X-WR-CALDESC:Events for Joliet Pride Network
REFRESH-INTERVAL;VALUE=DURATION:PT1H
X-Robots-Tag:noindex
X-PUBLISHED-TTL:PT1H
BEGIN:VTIMEZONE
TZID:America/Chicago
BEGIN:DAYLIGHT
TZOFFSETFROM:-0600
TZOFFSETTO:-0500
TZNAME:CDT
DTSTART:20250309T080000
END:DAYLIGHT
BEGIN:STANDARD
TZOFFSETFROM:-0500
TZOFFSETTO:-0600
TZNAME:CST
DTSTART:20251102T070000
END:STANDARD
BEGIN:DAYLIGHT
TZOFFSETFROM:-0600
TZOFFSETTO:-0500
TZNAME:CDT
DTSTART:20260308T080000
END:DAYLIGHT
BEGIN:STANDARD
TZOFFSETFROM:-0500
TZOFFSETTO:-0600
TZNAME:CST
DTSTART:20261101T070000
END:STANDARD
BEGIN:DAYLIGHT
TZOFFSETFROM:-0600
TZOFFSETTO:-0500
TZNAME:CDT
DTSTART:20270314T080000
END:DAYLIGHT
BEGIN:STANDARD
TZOFFSETFROM:-0500
TZOFFSETTO:-0600
TZNAME:CST
DTSTART:20271107T070000
END:STANDARD
END:VTIMEZONE
BEGIN:VEVENT
DTSTART;VALUE=DATE:20260207
DTEND;VALUE=DATE:20260208
DTSTAMP:20260425T114748
CREATED:20251231T192301Z
LAST-MODIFIED:20251231T192301Z
UID:718-1770422400-1770508799@jolietpridenetwork.org
SUMMARY:National Black HIV/AIDS Day
DESCRIPTION:National Black HIV/AIDS Awareness Day (NBHAAD) is observed annually on February 7th to highlight the significant\, disproportionate impact of HIV on Black communities in the U.S.\, focusing on increasing HIV education\, testing\, prevention (like PrEP)\, and treatment access while fighting stigma and promoting resilience. It serves as a critical call to action during Black History Month to unite and end the epidemic through empowerment and community involvement\, encouraging everyone to know their status and support affected individuals.  \n#NBHAAD  \n#NationalBlackHIVAIDSAwarenessDay
URL:https://jolietpridenetwork.org/event/national-black-hiv-aids-day/
CATEGORIES:Observances
END:VEVENT
END:VCALENDAR