BEGIN:VCALENDAR
VERSION:2.0
PRODID:-//Joliet Pride Network - ECPv6.15.20//NONSGML v1.0//EN
CALSCALE:GREGORIAN
METHOD:PUBLISH
X-WR-CALNAME:Joliet Pride Network
X-ORIGINAL-URL:https://jolietpridenetwork.org
X-WR-CALDESC:Events for Joliet Pride Network
REFRESH-INTERVAL;VALUE=DURATION:PT1H
X-Robots-Tag:noindex
X-PUBLISHED-TTL:PT1H
BEGIN:VTIMEZONE
TZID:America/Chicago
BEGIN:DAYLIGHT
TZOFFSETFROM:-0600
TZOFFSETTO:-0500
TZNAME:CDT
DTSTART:20250309T080000
END:DAYLIGHT
BEGIN:STANDARD
TZOFFSETFROM:-0500
TZOFFSETTO:-0600
TZNAME:CST
DTSTART:20251102T070000
END:STANDARD
BEGIN:DAYLIGHT
TZOFFSETFROM:-0600
TZOFFSETTO:-0500
TZNAME:CDT
DTSTART:20260308T080000
END:DAYLIGHT
BEGIN:STANDARD
TZOFFSETFROM:-0500
TZOFFSETTO:-0600
TZNAME:CST
DTSTART:20261101T070000
END:STANDARD
BEGIN:DAYLIGHT
TZOFFSETFROM:-0600
TZOFFSETTO:-0500
TZNAME:CDT
DTSTART:20270314T080000
END:DAYLIGHT
BEGIN:STANDARD
TZOFFSETFROM:-0500
TZOFFSETTO:-0600
TZNAME:CST
DTSTART:20271107T070000
END:STANDARD
END:VTIMEZONE
BEGIN:VEVENT
DTSTART;VALUE=DATE:20260516
DTEND;VALUE=DATE:20260517
DTSTAMP:20260425T114907
CREATED:20251231T200803Z
LAST-MODIFIED:20251231T200820Z
UID:744-1778889600-1778975999@jolietpridenetwork.org
SUMMARY:National Honor Our LGBT Elders Day
DESCRIPTION:National Honor Our LGBT Elders Day\, celebrated annually on May 16th\, recognizes and honors the significant contributions\, resilience\, and courage of older LGBTQ+ individuals who paved the way for greater rights and acceptance\, while also highlighting the ongoing challenges faced by LGBTQ+ seniors\, encouraging intergenerational dialogue and support for culturally competent care. Established by Nate Sweeney (SAGE) and added to the National Day Registry by Chase Brexton Health Care\, it’s a time for storytelling\, community building\, and reflecting on the progress and needs of the elder LGBTQ+ community \n#LGBTElders \n#LGBTeldersday
URL:https://jolietpridenetwork.org/event/national-honor-our-lgbt-elders-day/
CATEGORIES:Observances
END:VEVENT
END:VCALENDAR