BEGIN:VCALENDAR
VERSION:2.0
PRODID:-//Joliet Pride Network - ECPv6.15.20//NONSGML v1.0//EN
CALSCALE:GREGORIAN
METHOD:PUBLISH
X-ORIGINAL-URL:https://jolietpridenetwork.org
X-WR-CALDESC:Events for Joliet Pride Network
REFRESH-INTERVAL;VALUE=DURATION:PT1H
X-Robots-Tag:noindex
X-PUBLISHED-TTL:PT1H
BEGIN:VTIMEZONE
TZID:America/Chicago
BEGIN:DAYLIGHT
TZOFFSETFROM:-0600
TZOFFSETTO:-0500
TZNAME:CDT
DTSTART:20250309T080000
END:DAYLIGHT
BEGIN:STANDARD
TZOFFSETFROM:-0500
TZOFFSETTO:-0600
TZNAME:CST
DTSTART:20251102T070000
END:STANDARD
BEGIN:DAYLIGHT
TZOFFSETFROM:-0600
TZOFFSETTO:-0500
TZNAME:CDT
DTSTART:20260308T080000
END:DAYLIGHT
BEGIN:STANDARD
TZOFFSETFROM:-0500
TZOFFSETTO:-0600
TZNAME:CST
DTSTART:20261101T070000
END:STANDARD
BEGIN:DAYLIGHT
TZOFFSETFROM:-0600
TZOFFSETTO:-0500
TZNAME:CDT
DTSTART:20270314T080000
END:DAYLIGHT
BEGIN:STANDARD
TZOFFSETFROM:-0500
TZOFFSETTO:-0600
TZNAME:CST
DTSTART:20271107T070000
END:STANDARD
END:VTIMEZONE
BEGIN:VEVENT
DTSTART;VALUE=DATE:20260316
DTEND;VALUE=DATE:20260321
DTSTAMP:20260425T153430
CREATED:20251231T193818Z
LAST-MODIFIED:20251231T193818Z
UID:729-1773619200-1774051199@jolietpridenetwork.org
SUMMARY:National LGBT Health Awareness Week
DESCRIPTION:National LGBTQ Health Awareness Week\, typically the third week in March\,is an annual observance led by the National Coalition for LGBTQ Health to raise awareness about unique health disparities\, advocate for inclusive care\, and promote equitable health for LGBTQ+ individuals by uplifting community voices\, providing education\, and encouraging action against discrimination. It highlights issues from mental health challenges to HIV/AIDS\, aiming to foster informed dialogue and better health outcomes for all LGBTQ+ people.  \n#LGBTHealthAwarenessWeek  \n#LGBTHealth
URL:https://jolietpridenetwork.org/event/national-lgbt-health-awareness-week/
CATEGORIES:Observances
END:VEVENT
END:VCALENDAR