BEGIN:VCALENDAR
VERSION:2.0
PRODID:-//Joliet Pride Network - ECPv6.15.20//NONSGML v1.0//EN
CALSCALE:GREGORIAN
METHOD:PUBLISH
X-WR-CALNAME:Joliet Pride Network
X-ORIGINAL-URL:https://jolietpridenetwork.org
X-WR-CALDESC:Events for Joliet Pride Network
REFRESH-INTERVAL;VALUE=DURATION:PT1H
X-Robots-Tag:noindex
X-PUBLISHED-TTL:PT1H
BEGIN:VTIMEZONE
TZID:America/Chicago
BEGIN:DAYLIGHT
TZOFFSETFROM:-0600
TZOFFSETTO:-0500
TZNAME:CDT
DTSTART:20250309T080000
END:DAYLIGHT
BEGIN:STANDARD
TZOFFSETFROM:-0500
TZOFFSETTO:-0600
TZNAME:CST
DTSTART:20251102T070000
END:STANDARD
BEGIN:DAYLIGHT
TZOFFSETFROM:-0600
TZOFFSETTO:-0500
TZNAME:CDT
DTSTART:20260308T080000
END:DAYLIGHT
BEGIN:STANDARD
TZOFFSETFROM:-0500
TZOFFSETTO:-0600
TZNAME:CST
DTSTART:20261101T070000
END:STANDARD
BEGIN:DAYLIGHT
TZOFFSETFROM:-0600
TZOFFSETTO:-0500
TZNAME:CDT
DTSTART:20270314T080000
END:DAYLIGHT
BEGIN:STANDARD
TZOFFSETFROM:-0500
TZOFFSETTO:-0600
TZNAME:CST
DTSTART:20271107T070000
END:STANDARD
END:VTIMEZONE
BEGIN:VEVENT
DTSTART;VALUE=DATE:20260714
DTEND;VALUE=DATE:20260715
DTSTAMP:20260425T153022
CREATED:20251231T203322Z
LAST-MODIFIED:20251231T203728Z
UID:762-1783987200-1784073599@jolietpridenetwork.org
SUMMARY:International Non-Binary People’s Day
DESCRIPTION:International Non-Binary People’s Day is celebrated annually on July 14th\, a date chosen to fall precisely between International Women’s Day (March 8th) and International Men’s Day (November 19th)\, highlighting identities outside the gender binary. It’s a day to raise awareness about non-binary experiences\, celebrate the diversity of non-binary identities (neither solely male nor female\, or both\, or somewhere in between)\, and advocate for inclusion and understanding\, often using gender-neutral language like “they/them” pronouns and challenging stereotypes \n. \n#NonBinaryPeoplesDay #NonBinaryPride
URL:https://jolietpridenetwork.org/event/nternational-non-binary-peoples-day/
CATEGORIES:Observances
END:VEVENT
END:VCALENDAR