BEGIN:VCALENDAR
VERSION:2.0
PRODID:-//Joliet Pride Network - ECPv6.15.20//NONSGML v1.0//EN
CALSCALE:GREGORIAN
METHOD:PUBLISH
X-WR-CALNAME:Joliet Pride Network
X-ORIGINAL-URL:https://jolietpridenetwork.org
X-WR-CALDESC:Events for Joliet Pride Network
REFRESH-INTERVAL;VALUE=DURATION:PT1H
X-Robots-Tag:noindex
X-PUBLISHED-TTL:PT1H
BEGIN:VTIMEZONE
TZID:America/Chicago
BEGIN:DAYLIGHT
TZOFFSETFROM:-0600
TZOFFSETTO:-0500
TZNAME:CDT
DTSTART:20250309T080000
END:DAYLIGHT
BEGIN:STANDARD
TZOFFSETFROM:-0500
TZOFFSETTO:-0600
TZNAME:CST
DTSTART:20251102T070000
END:STANDARD
BEGIN:DAYLIGHT
TZOFFSETFROM:-0600
TZOFFSETTO:-0500
TZNAME:CDT
DTSTART:20260308T080000
END:DAYLIGHT
BEGIN:STANDARD
TZOFFSETFROM:-0500
TZOFFSETTO:-0600
TZNAME:CST
DTSTART:20261101T070000
END:STANDARD
BEGIN:DAYLIGHT
TZOFFSETFROM:-0600
TZOFFSETTO:-0500
TZNAME:CDT
DTSTART:20270314T080000
END:DAYLIGHT
BEGIN:STANDARD
TZOFFSETFROM:-0500
TZOFFSETTO:-0600
TZNAME:CST
DTSTART:20271107T070000
END:STANDARD
END:VTIMEZONE
BEGIN:VEVENT
DTSTART;VALUE=DATE:20260301
DTEND;VALUE=DATE:20260302
DTSTAMP:20260425T224528
CREATED:20251231T193539Z
LAST-MODIFIED:20251231T193539Z
UID:727-1772323200-1772409599@jolietpridenetwork.org
SUMMARY:Zero Discrimination Day
DESCRIPTION:Zero Discrimination Day is an annual global observance on March 1st to promote equality\, inclusion\, and dignity for all\, fighting discrimination based on income\, sex\, age\, health status (like HIV)\, occupation\, disability\, race\, sexual orientation\, gender identity\, and more\, urging people to stand for compassionate\, just societies and change discriminatory laws. Led by UNAIDS\, it encourages actions like sharing stories and using the butterfly symbol to inspire transformation and awareness\, highlighting that everyone’s rights are essential for health and well-being.  \n#ZeroDiscriminationDay  \n#ZeroDiscrimination
URL:https://jolietpridenetwork.org/event/zero-discrimination-day/
CATEGORIES:Observances
END:VEVENT
END:VCALENDAR